BEGIN:VCALENDAR
VERSION:2.0
PRODID:-//Transgender Leadership Alaska - ECPv6.15.20//NONSGML v1.0//EN
CALSCALE:GREGORIAN
METHOD:PUBLISH
X-ORIGINAL-URL:https://www.transleadershipalaska.com
X-WR-CALDESC:Events for Transgender Leadership Alaska
REFRESH-INTERVAL;VALUE=DURATION:PT1H
X-Robots-Tag:noindex
X-PUBLISHED-TTL:PT1H
BEGIN:VTIMEZONE
TZID:UTC
BEGIN:STANDARD
TZOFFSETFROM:+0000
TZOFFSETTO:+0000
TZNAME:UTC
DTSTART:20170101T000000
END:STANDARD
END:VTIMEZONE
BEGIN:VEVENT
DTSTART;TZID=UTC:20181120T183000
DTEND;TZID=UTC:20181120T203000
DTSTAMP:20260422T175421
CREATED:20181113T231519Z
LAST-MODIFIED:20181113T231803Z
UID:340-1542738600-1542745800@www.transleadershipalaska.com
SUMMARY:Trans Day of Remembrance Juneau
DESCRIPTION:Join us in honor of Transgender Day of Remembrance with a candlelit vigil\, a SpeakOut for trans and gender nonconforming individuals\, and a screening of “Becoming More Visible”\, a documentary about transgender youth.
URL:https://www.transleadershipalaska.com/event/trans-day-of-remembrance-juneau/
LOCATION:The Gold Town Nickelodeon\, 171 Shattuck Way Suite 109\, Juneau\, AK
END:VEVENT
BEGIN:VEVENT
DTSTART;TZID=UTC:20181120T183000
DTEND;TZID=UTC:20181120T193000
DTSTAMP:20260422T175421
CREATED:20181113T233013Z
LAST-MODIFIED:20181113T233037Z
UID:347-1542738600-1542742200@www.transleadershipalaska.com
SUMMARY:Trans Day of Remembrance Wrangell
DESCRIPTION:Join Wrangell Community Roots this November as we remember those lost to gender violence with a reading of names and a candlelit vigil.
URL:https://www.transleadershipalaska.com/event/trans-day-of-remembrance-wrangell/
LOCATION:Wrangell Downtown Pavilion\, Wrangell\, AK
END:VEVENT
BEGIN:VEVENT
DTSTART;TZID=UTC:20181120T180000
DTEND;TZID=UTC:20181120T203000
DTSTAMP:20260422T175421
CREATED:20181113T230933Z
LAST-MODIFIED:20181113T231048Z
UID:338-1542736800-1542745800@www.transleadershipalaska.com
SUMMARY:Trans Day of Remembrance Vigil
DESCRIPTION:Trans Day of Remembrance (TDOR) is a day honoring and celebrating the transgender and gender nonconforming community in wake of the violence they face every year. \n\n\n \n\n\nThis year\, we will gather at UAA to honor them\, holding a candlelit vigil and ceremony with guest speakers. This is a free community event hosted by Trans Leadership Alaska\, Generation Action\, Identity Inc\, and Drag+
URL:https://www.transleadershipalaska.com/event/trans-day-of-remembrance-vigil/
LOCATION:UAA Student Union\, 3211 Providence Dr\, Anchorage\, AK\, 99508\, United States
END:VEVENT
BEGIN:VEVENT
DTSTART;TZID=UTC:20181119T190000
DTEND;TZID=UTC:20181119T210000
DTSTAMP:20260422T175421
CREATED:20181113T230559Z
LAST-MODIFIED:20181113T230610Z
UID:336-1542654000-1542661200@www.transleadershipalaska.com
SUMMARY:Movie & Discussion: The Death and Life of Marsha P. Johnson
DESCRIPTION:
URL:https://www.transleadershipalaska.com/event/movie-discussion-the-death-and-life-of-marsha-p-johnson/
LOCATION:Unitarian Universalist Fellowship of Fairbanks\, 4448 Pikes Landing Rd\, Fairbanks\, AK\, 99709
END:VEVENT
BEGIN:VEVENT
DTSTART;TZID=UTC:20181119T190000
DTEND;TZID=UTC:20181119T210000
DTSTAMP:20260422T175421
CREATED:20181113T230150Z
LAST-MODIFIED:20181113T230203Z
UID:333-1542654000-1542661200@www.transleadershipalaska.com
SUMMARY:Honoring Our Trans-cestors
DESCRIPTION:Join local pagan and trans communities as we hold an intimate ritual to honor our Transcestors\, our fallen ones\, the evening before Trans Day of Remembrance (TDoR). The staggering number of transgender people who are killed worldwide is heartbreaking\, and in this rite we will light candles for each (known) trans person killed in the United States this year\, remember their names\, and bless the list of worldwide fallen. Attendees will go home with a candle for their altars to remember these mighty dead outside of a single rite. \nDoors open at 6:30pm\nRitual begins at 7pm \nParticipants are encouraged to bring potluck food and drink to break bread with our ancestors and with our living tribe of hearts who remember them. Feel free to bring icons\, images\, and offerings for the altar that will also feature images of trans and gender nonconforming honored trancestors. Donations to the Agora are welcome as well to keep this space open for events. \nIf you have not been to the Agora Anchorage before\, please reach out to lee@passionandsoul.com for directions to this private location.
URL:https://www.transleadershipalaska.com/event/honoring-our-trans-cestors/
LOCATION:Agora\, Anchorage\, AK
END:VEVENT
BEGIN:VEVENT
DTSTART;TZID=UTC:20181118T150000
DTEND;TZID=UTC:20181118T180000
DTSTAMP:20260422T175421
CREATED:20181113T224152Z
LAST-MODIFIED:20181113T224201Z
UID:327-1542553200-1542564000@www.transleadershipalaska.com
SUMMARY:Trans Day of Remembrance Talkeetna
DESCRIPTION:For the second year in a row\, Talkeetna Pride is bringing Trans Day of Remembrance (TDOR) back to Talkeetna. Sponsored by the ACLU of Alaska\, Full Spectrum Health\, LLC\, and K2 Aviation\, this event brings visibility to the trans and gender nonconforming community and honors those we have lost. \nWe will meet at the Sheldon Community Arts Hangar in downtown Talkeetna before we head out into the streets and rally for change. We’ll head back inside and out of the cold for refreshments and a candlelit vigil. \n**This is a free and child friendly event\, please dress warm**
URL:https://www.transleadershipalaska.com/event/trans-day-of-remembrance-talkeetna/
LOCATION:Sheldon Community Arts Hangar\, E 1st St\, Talkeenta\, AK
END:VEVENT
BEGIN:VEVENT
DTSTART;TZID=UTC:20181118T110000
DTEND;TZID=UTC:20181118T120000
DTSTAMP:20260422T175421
CREATED:20181113T225541Z
LAST-MODIFIED:20181113T225553Z
UID:330-1542538800-1542542400@www.transleadershipalaska.com
SUMMARY:Trans Day of Remembrance Service
DESCRIPTION:Hosted by Denise Sudbeck\, honoring our trans and gender nonconforming community.
URL:https://www.transleadershipalaska.com/event/trans-day-of-remembrance-service/
LOCATION:Anchorage Unitarian Universalist Fellowship\, 2824 E 18th Ave\, Anchorage\, AK
END:VEVENT
BEGIN:VEVENT
DTSTART;TZID=UTC:20181117T180000
DTEND;TZID=UTC:20181117T210000
DTSTAMP:20260422T175421
CREATED:20181113T223459Z
LAST-MODIFIED:20181113T223515Z
UID:324-1542477600-1542488400@www.transleadershipalaska.com
SUMMARY:Transcending Tales
DESCRIPTION:Transcending Tales – Overcoming Adversity \nJoin us for an evening of stories from 6 Alaskan transgender and gender non-conforming (TGNC) individuals about their experiences overcoming adversity. \nCome hear tales about the extraordinary lives these individuals have lived and how they have stayed strong even in the face of adversity. This is your chance to open your hearts and minds to the truly unique and beautiful lives of the Alaskan transgender and gender-expansive community. \nHosted by Oliver G. Smith and Transgender Leadership Alaska.\nOpening music by Quinn Christopherson.
URL:https://www.transleadershipalaska.com/event/transcending-tales/
LOCATION:Out North Theater\, 333 W 4th Ave\, Anchorage\, AK
END:VEVENT
BEGIN:VEVENT
DTSTART;TZID=UTC:20181116T180000
DTEND;TZID=UTC:20181116T200000
DTSTAMP:20260422T175421
CREATED:20181113T223031Z
LAST-MODIFIED:20181113T223606Z
UID:321-1542391200-1542398400@www.transleadershipalaska.com
SUMMARY:TDOR Friday Night Social
DESCRIPTION:Join us this Friday for a social with Trans Leadership Alaska and Identity Inc! Bring your friends and allies as we dive into our events for Trans Awareness Month.
URL:https://www.transleadershipalaska.com/event/tdor-friday-night-social/
LOCATION:Identity Inc.\, 336 E 5th Ave\, Anchorage\, AK\, 99501\, United States
END:VEVENT
BEGIN:VEVENT
DTSTART;TZID=UTC:20181110T120000
DTEND;TZID=UTC:20181110T150000
DTSTAMP:20260422T175421
CREATED:20180927T085636Z
LAST-MODIFIED:20181029T232408Z
UID:178-1541851200-1541862000@www.transleadershipalaska.com
SUMMARY:TLA Statewide Meeting
DESCRIPTION:TLA Statewide Meeting! Trans\, gender non-conforming\, and allied people welcome. \nContact us for call-in options at transleadershipalaska@gmail.com
URL:https://www.transleadershipalaska.com/event/tla-statewide-meeting/
LOCATION:Unitarian Universalist Fellowship of Fairbanks\, 4448 Pikes Landing Rd\, Fairbanks\, AK\, 99709
CATEGORIES:Meetings
END:VEVENT
BEGIN:VEVENT
DTSTART;TZID=UTC:20181104T140000
DTEND;TZID=UTC:20181104T160000
DTSTAMP:20260422T175421
CREATED:20181031T231432Z
LAST-MODIFIED:20181031T231543Z
UID:312-1541340000-1541347200@www.transleadershipalaska.com
SUMMARY:Rally for Trans Equality!
DESCRIPTION:November is Trans Awareness Month! Rally with us in Anchorage Towne Square in response to the leaked Trump memo and in protest of an administration that fights against us every day. Bring your signs\, raise visibility for our community\, and encourage Alaska to vote in this extremely important election. \nBring signs and dress warm!
URL:https://www.transleadershipalaska.com/event/rally-for-trans-equality/
LOCATION:Anchorage Towne Square\, 560 W 5th Ave\, Anchorage\, AK\, 99501
END:VEVENT
BEGIN:VEVENT
DTSTART;TZID=UTC:20181102T180000
DTEND;TZID=UTC:20181102T200000
DTSTAMP:20260422T175421
CREATED:20181002T054938Z
LAST-MODIFIED:20181002T054947Z
UID:265-1541181600-1541188800@www.transleadershipalaska.com
SUMMARY:ATC Meeting
DESCRIPTION:Anchorage Trans Community meeting for meeting new people and building community.
URL:https://www.transleadershipalaska.com/event/atc-meeting-5/
LOCATION:Identity Inc.\, 336 E 5th Ave\, Anchorage\, AK\, 99501\, United States
CATEGORIES:Meetings
END:VEVENT
BEGIN:VEVENT
DTSTART;TZID=UTC:20181026T180000
DTEND;TZID=UTC:20181026T200000
DTSTAMP:20260422T175421
CREATED:20181002T054807Z
LAST-MODIFIED:20181002T055203Z
UID:262-1540576800-1540584000@www.transleadershipalaska.com
SUMMARY:ATC Meeting
DESCRIPTION:Anchorage Trans Community meeting for meeting new people and building community.
URL:https://www.transleadershipalaska.com/event/atc-meeting-4/
LOCATION:Identity Inc.\, 336 E 5th Ave\, Anchorage\, AK\, 99501\, United States
CATEGORIES:Meetings
END:VEVENT
BEGIN:VEVENT
DTSTART;TZID=UTC:20181025T190000
DTEND;TZID=UTC:20181025T210000
DTSTAMP:20260422T175421
CREATED:20180927T085158Z
LAST-MODIFIED:20181002T054125Z
UID:173-1540494000-1540501200@www.transleadershipalaska.com
SUMMARY:TLA Board Meeting
DESCRIPTION:TLA Board Meeting\, open to TLA members. Please RSVP by emailing us at transleadershipalaska@gmail.com
URL:https://www.transleadershipalaska.com/event/tla-board-meeting-3/
LOCATION:Full Spectrum Health\, LLC\, 307 E Northern Lights Blvd\, Anchorage\, AK\, 99503
CATEGORIES:Meetings
END:VEVENT
BEGIN:VEVENT
DTSTART;TZID=UTC:20181019T180000
DTEND;TZID=UTC:20181019T200000
DTSTAMP:20260422T175421
CREATED:20181002T054743Z
LAST-MODIFIED:20181002T054751Z
UID:259-1539972000-1539979200@www.transleadershipalaska.com
SUMMARY:ATC Meeting
DESCRIPTION:Anchorage Trans Community meeting for meeting new people and building community.
URL:https://www.transleadershipalaska.com/event/atc-meeting-3/
LOCATION:Identity Inc.\, 336 E 5th Ave\, Anchorage\, AK\, 99501\, United States
CATEGORIES:Meetings
END:VEVENT
BEGIN:VEVENT
DTSTART;TZID=UTC:20181012T180000
DTEND;TZID=UTC:20181012T200000
DTSTAMP:20260422T175421
CREATED:20181002T054632Z
LAST-MODIFIED:20181002T054642Z
UID:256-1539367200-1539374400@www.transleadershipalaska.com
SUMMARY:ATC Meeting
DESCRIPTION:Anchorage Trans Community meeting for meeting new people and building community.
URL:https://www.transleadershipalaska.com/event/atc-meeting-2/
LOCATION:Identity Inc.\, 336 E 5th Ave\, Anchorage\, AK\, 99501\, United States
CATEGORIES:Meetings
END:VEVENT
BEGIN:VEVENT
DTSTART;TZID=UTC:20181011T190000
DTEND;TZID=UTC:20181011T210000
DTSTAMP:20260422T175421
CREATED:20180927T085021Z
LAST-MODIFIED:20180927T085021Z
UID:170-1539284400-1539291600@www.transleadershipalaska.com
SUMMARY:TLA Board Meeting
DESCRIPTION:TLA Board Meeting\, open to TLA members. Please RSVP by emailing us at transleadershipalaska@gmail.com
URL:https://www.transleadershipalaska.com/event/tla-board-meeting-2/
LOCATION:Full Spectrum Health\, LLC\, 307 E Northern Lights Blvd\, Anchorage\, AK\, 99503
CATEGORIES:Meetings
END:VEVENT
BEGIN:VEVENT
DTSTART;TZID=UTC:20181011T120000
DTEND;TZID=UTC:20181011T140000
DTSTAMP:20260422T175421
CREATED:20181004T222218Z
LAST-MODIFIED:20181005T000121Z
UID:268-1539259200-1539266400@www.transleadershipalaska.com
SUMMARY:Coming Out For Equality
DESCRIPTION:Come out of the closet for equality at the UAA Student Union. We’re kicking off a campaign to get the right people into office and establish a Statewide Nondiscrimination Bill.
URL:https://www.transleadershipalaska.com/event/coming-out-for-equality/
LOCATION:UAA Student Union\, 3211 Providence Dr\, Anchorage\, AK\, 99508\, United States
CATEGORIES:Campaign
END:VEVENT
BEGIN:VEVENT
DTSTART;TZID=UTC:20181005T180000
DTEND;TZID=UTC:20181005T200000
DTSTAMP:20260422T175421
CREATED:20181002T054538Z
LAST-MODIFIED:20181002T054550Z
UID:253-1538762400-1538769600@www.transleadershipalaska.com
SUMMARY:ATC Meeting
DESCRIPTION:Anchorage Trans Community meeting for meeting new people and building community.
URL:https://www.transleadershipalaska.com/event/atc-meeting/
LOCATION:Identity Inc.\, 336 E 5th Ave\, Anchorage\, AK\, 99501\, United States
CATEGORIES:Meetings
END:VEVENT
BEGIN:VEVENT
DTSTART;TZID=UTC:20180927T190000
DTEND;TZID=UTC:20180927T210000
DTSTAMP:20260422T175421
CREATED:20180927T081120Z
LAST-MODIFIED:20180927T081120Z
UID:162-1538074800-1538082000@www.transleadershipalaska.com
SUMMARY:TLA Board Meeting
DESCRIPTION:TLA Board Meeting\, open to TLA members. Please RSVP by emailing us at transleadershipalaska@gmail.com
URL:https://www.transleadershipalaska.com/event/tla-board-meeting/
LOCATION:Full Spectrum Health\, LLC\, 307 E Northern Lights Blvd\, Anchorage\, AK\, 99503
CATEGORIES:Meetings
END:VEVENT
END:VCALENDAR